BEGIN:VCALENDAR
VERSION:2.0
PRODID:-//YMFF - ECPv6.15.20//NONSGML v1.0//EN
CALSCALE:GREGORIAN
METHOD:PUBLISH
X-WR-CALNAME:YMFF
X-ORIGINAL-URL:https://yorkshiremusicfuturefund.com
X-WR-CALDESC:Events for YMFF
REFRESH-INTERVAL;VALUE=DURATION:PT1H
X-Robots-Tag:noindex
X-PUBLISHED-TTL:PT1H
BEGIN:VTIMEZONE
TZID:UTC
BEGIN:STANDARD
TZOFFSETFROM:+0000
TZOFFSETTO:+0000
TZNAME:UTC
DTSTART:20220101T000000
END:STANDARD
END:VTIMEZONE
BEGIN:VEVENT
DTSTART;TZID=UTC:20230620T120000
DTEND;TZID=UTC:20230620T160000
DTSTAMP:20260424T152300
CREATED:20230314T171425Z
LAST-MODIFIED:20230314T172100Z
UID:2831-1687262400-1687276800@yorkshiremusicfuturefund.com
SUMMARY:The Northern Aldborough Festival – New Voices Singing Competition 2023 – Semi Final
DESCRIPTION:Watch the first group of semi-finalists in the Northern Aldborough Festival Vocal Competition battle it out in front of a prestigious panel for a place in the Grand Final. \nWelcome to the exciting launch of a brand-new annual vocal competition of national significance. From its inception\, The Northern Aldborough Festival has striven to support and nurture young musical talent and now\, with the generous support of sponsors\, the Festival is able to launch a competition like no other. \nNew Voices aims to find the finest classical voices in the UK today\, whether soloists or small ensembles\, aged between 21 and 32. Open to new up-and-coming talent\, the top prize is £5000\, with £1500 for the runner-up and £500 for the winner of the Audience Prize\, with a network of partner festivals across the UK creating valuable concert opportunities for the finalists. In the semi-finals\, watch the solo singers and ensembles battle it out in front of a prestigious panel including Dame Felicity Lott\, conductor Christian Curnyn and pianist Joseph Middleton for a place in the Grand Final. \nDate: Tuesday\, 20th June 2023\nTime: 12:00 pm\nVenue: St Andrew’s Church\, Aldborough\, YO51 9EP
URL:https://yorkshiremusicfuturefund.com/event/the-northern-aldborough-festival-new-voices-singing-competition-2023-semi-final/
LOCATION:Venue: St Andrew’s Church\, Aldborough\, YO51 9EP\, St Andrew’s Church\, Aldborough\, YO51 9EP\, United Kingdom
CATEGORIES:Compeitions
ATTACH;FMTTYPE=image/png:https://yorkshiremusicfuturefund.com/wp-content/uploads/2023/03/festibal.png
END:VEVENT
BEGIN:VEVENT
DTSTART;TZID=UTC:20230421T190000
DTEND;TZID=UTC:20230421T200000
DTSTAMP:20260424T152300
CREATED:20230314T165851Z
LAST-MODIFIED:20230314T171019Z
UID:2828-1682103600-1682107200@yorkshiremusicfuturefund.com
SUMMARY:A Concert for Ukraine
DESCRIPTION:The YMFF\, Ampleforth Abbey and Ampleforth College are working together to create a wonderful evening of music to help raise funds for the humanitarian work that is ongoing in Ukraine. \nPlease join us for the uplifting voices of\nAmpleforth Schola Cantorum and Ampleforth Orthodox Choir\nsinging part of the glorious Orthodox Liturgy\non Friday\, 21st April 2023 in Ampleforth Abbey\n7pm for an hour \nAll proceeds from ticket sales will go to CAFOD to support their work responding to the ongoing crisis in Ukraine.  \nThis concert was originally due to take place last November but\, due to storms\, we have rescheduled the evening to 21st April 20
URL:https://yorkshiremusicfuturefund.com/event/a-concert-for-ukraine/
CATEGORIES:Concerts
ATTACH;FMTTYPE=image/jpeg:https://yorkshiremusicfuturefund.com/wp-content/uploads/2023/03/ukraine.jpg
END:VEVENT
END:VCALENDAR